BEGIN:VCALENDAR
VERSION:2.0
PRODID:-//KIT Cafe &amp; Bar - ECPv6.2.0.1//NONSGML v1.0//EN
CALSCALE:GREGORIAN
METHOD:PUBLISH
X-ORIGINAL-URL:https://kit-cafe.com
X-WR-CALDESC:Veranstaltungen für KIT Cafe &amp; Bar
REFRESH-INTERVAL;VALUE=DURATION:PT1H
X-Robots-Tag:noindex
X-PUBLISHED-TTL:PT1H
BEGIN:VTIMEZONE
TZID:Europe/Berlin
BEGIN:DAYLIGHT
TZOFFSETFROM:+0100
TZOFFSETTO:+0200
TZNAME:CEST
DTSTART:20250330T010000
END:DAYLIGHT
BEGIN:STANDARD
TZOFFSETFROM:+0200
TZOFFSETTO:+0100
TZNAME:CET
DTSTART:20251026T010000
END:STANDARD
END:VTIMEZONE
BEGIN:VEVENT
DTSTART;VALUE=DATE:20250919
DTEND;VALUE=DATE:20250920
DTSTAMP:20260422T180555
CREATED:20250917T220342Z
LAST-MODIFIED:20250917T220425Z
UID:2126-1758240000-1758326399@kit-cafe.com
SUMMARY:“A Hot Night in Paris”
DESCRIPTION:“A Hot Night in Paris” \nBig Band der Clara-Schumann-Musikschule Düsseldorf Ltg. Romano Schubert \n\n\n\n\n\nDie mehrfach ausgezeichnete CSM Big Band präsentiert mit ihrem neuen Programm die Musik der legendären Phil Collins Big Band\, die Ende der 90er Jahre von Quincy Jones geleitet wurde und bei der namhafte Arrangeure wie z.B. John Clayton und Sammy Nestico federführend waren.
URL:https://kit-cafe.com/event/a-hot-night-in-paris/
CATEGORIES:Konzerte,Veranstaltungen
ATTACH;FMTTYPE=image/jpeg:https://kit-cafe.com/wp-content/uploads/2025/09/Phil-Collins-CSM-Big-Band-Veranstalterinfo.jpg
END:VEVENT
BEGIN:VEVENT
DTSTART;TZID=Europe/Berlin:20250924T203000
DTEND;TZID=Europe/Berlin:20250924T220000
DTSTAMP:20260422T180555
CREATED:20250601T170608Z
LAST-MODIFIED:20250921T110550Z
UID:2091-1758745800-1758751200@kit-cafe.com
SUMMARY:Funky Vibes @ KIT - Sebastian Gahler & Friends
DESCRIPTION:Eintritt frei \nDie  Funky Vibes sind vor allem ein Outdoor-Projekt\, das nun schon zum 9. Mal in Folge seinem Publikum Live-Musik fürs Düsseldorfer Sommerfeeling ins bzw. vor das KIT gebracht hat. \n\n\n\n\nDie Konzertreihe Funky Vibes ist zurück an der Rheinuferpromenade! Düsseldorfer Musiker Sebastian Gahler sorgt zusammen mit exzellenten Gästen wieder für abwechslungsreiche Live-Musik: Jazz und Soul im Zusammenspiel mit modernen elektronischen Elementen – dieser spannende Sound bringt die richtige Atmosphäre für Sommerabende am Rhein: Eintritt frei\, bei gutem Wetter open-air. \nFunky Vibes finden an fünf Terminen mit unterschiedlicher Besetzung im KIT an der Apollo-Wiese statt: 11. Juni\, 9. Juli\, 13. August\, 03. September und 24. September. \n  \n 
URL:https://kit-cafe.com/event/funky-vibes-kit-sebastian-galer-friends/
CATEGORIES:Konzerte,Reihen,Veranstaltungen
ATTACH;FMTTYPE=image/jpeg:https://kit-cafe.com/wp-content/uploads/2025/06/FunkyVibes@KIT2025.jpg
END:VEVENT
BEGIN:VEVENT
DTSTART;TZID=Europe/Berlin:20250927T210000
DTEND;TZID=Europe/Berlin:20250928T010000
DTSTAMP:20260422T180555
CREATED:20250921T110228Z
LAST-MODIFIED:20250921T110328Z
UID:2130-1759006800-1759021200@kit-cafe.com
SUMMARY:Deejay Mr. Brown
DESCRIPTION:Endlich mal wieder einen Funk/Soul Abend mit Deejay MR. BROWN! Mittlerweile feierte er seinen 80. Geburtstag\, und wird uns mit seiner Mischung aus Klassikern und Neuheiten aus der Black Music Scene beweisen\, dass er ‚fast‘ so zeitlos ist\, wie seine Musik. \nFunk & Soul Deejay since 1967: Mr. Brown! Funk & Soul sind die großen „Schubladen“. Darin verborgen: Der Memphis-Motown-Philly Sound\, Rap & Hip-Hop\, Modern-Northern & Southern Soul\, Disco\, House\, Boogie\, R&B\, Sweet Soul & Deep Soul\, Electro\, Funk Jazz\, Blues\, Gospel\, etc. In diesen beiden Schubladen ist für jeden Black Music Fan etwas dabei … \nlook at https://www.djmrbrown.de/
URL:https://kit-cafe.com/event/soul-dj-mr-brown/
CATEGORIES:Partys,Veranstaltungen
ATTACH;FMTTYPE=image/jpeg:https://kit-cafe.com/wp-content/uploads/2025/09/Mr.-BROWN-FOR-ADS-FLYER2.jpg
END:VEVENT
END:VCALENDAR