BEGIN:VCALENDAR
VERSION:2.0
PRODID:-//KIT Cafe &amp; Bar - ECPv6.2.0.1//NONSGML v1.0//EN
CALSCALE:GREGORIAN
METHOD:PUBLISH
X-ORIGINAL-URL:https://kit-cafe.com
X-WR-CALDESC:Veranstaltungen für KIT Cafe &amp; Bar
REFRESH-INTERVAL;VALUE=DURATION:PT1H
X-Robots-Tag:noindex
X-PUBLISHED-TTL:PT1H
BEGIN:VTIMEZONE
TZID:Europe/Berlin
BEGIN:DAYLIGHT
TZOFFSETFROM:+0100
TZOFFSETTO:+0200
TZNAME:CEST
DTSTART:20250330T010000
END:DAYLIGHT
BEGIN:STANDARD
TZOFFSETFROM:+0200
TZOFFSETTO:+0100
TZNAME:CET
DTSTART:20251026T010000
END:STANDARD
END:VTIMEZONE
BEGIN:VEVENT
DTSTART;TZID=Europe/Berlin:20250817T200000
DTEND;TZID=Europe/Berlin:20250817T220000
DTSTAMP:20260422T162423
CREATED:20250515T194239Z
LAST-MODIFIED:20250515T194239Z
UID:2076-1755460800-1755468000@kit-cafe.com
SUMMARY:Aritmija feat. Sabiha Khan & Vinayak Netke // Rhein features Laibach & Save
DESCRIPTION:KIT Water Music präsentiert \nAritmija feat. Sabiha Khan & Vinayak Netke (India\, Slovenia) \nAritmija feat. Sabiha Khan & Vinayak Netke is an international music project which started out as a single\, one-time concert collaboration in the summer of 2016. The Slovenian guitar duo Aritmija invited two exquisite musicians from Mumbai\, India\, vocalist Sabiha Khan and virtuoso tabla player Vinayak Netke to perform together at the concert in Ljubljana\, Slovenia. The initial collaboration exceeded the expectations of their first music encounter and turned out to be very successful\, exciting and musically very fulfilling\, so the musicians decided to continue their joint venture. Since 2016 the international project has performed more than 80 concerts in India and Europe. This unique world-music project creates a powerful musical blend by combining influences from various music genres such as Balkan ethno music\, rock\, jazz\, flamenco\, classical music and rich heritage of Indian classical and traditional music into their original compositions. \nIn the past 8 years the international project has completed 4 short tours of India and 5 European tours (Switzerland\, Austria\, France\, Italy and Slovenia). During the 2017 European summer tour the project recorded their first live CD comprised mostly of band members’ original compositions. In 2018 the four musicians also teamed with the Slovenian painter Breda Sturm creating and presenting a transdisciplinary Morse-Art Project which explores the use of Morse code in music and visual arts. \nAritmija is based on a guitar duo\, formed in 2002 by two guitarists\, composers\, multi- instrumentalists and guitar teachers Tilen Stepišnik and Šemsudin Dino Džopa\, from Ljubljana\, Slovenia. In the last 22 years Aritmija has performed over 700 concerts in Slovenia and abroad (Switzerland\, Germany\, France\, Italy\, UK\, Austria\, India\, Uzbekistan) and released 4 CDs. The best style to describe the music of Aritmija would be world-music\, a mix of traditional music from the Balkan region\, rock\, jazz and flamenco\, which they skillfully combine in their own compositions. In the summer of 2016 Aritmija started a new collaboration with exquisite musicians from Mumbai\, India\, vocalist Sabiha Khan and tabla player Vinayak Netke. \nSabiha Khan is a versatile vocalist from India\, who has devoted twenty years to the practice of traditional and classical Indian vocals. Khan has performed on world-music festivals\, conducted workshops and recorded music for films\, documentary films and advertisements. \nVinayak Netke is a virtuoso on the Indian percussion tabla and a versatile composer. He has performed with renowned musicians\, on stages from Japan to Europe\, notably with the French guitarist Titi Robin\, violinist Dr. L. Subramaniam\, Indian-German pianist and composer Jarry Singla and many others. \nMusicians:\nŠemsudin Dino Džopa – guitar (SLO) \nTilen Stepišnik – guitar (SLO)\nSabiha Khan – vocals (IND)\nVinayak Netke –tabla (IND) \n\n\n\n  \n  \n 
URL:https://kit-cafe.com/event/aritmija-feat-sabiha-khan-vinayak-netke-rhein-features-laibach-save/
CATEGORIES:Konzerte,Veranstaltungen
ATTACH;FMTTYPE=image/jpeg:https://kit-cafe.com/wp-content/uploads/2025/05/Aritmija-feat.-Sabiha-Khan-Vinayak-Netke_Session_Quartet.jpg
END:VEVENT
BEGIN:VEVENT
DTSTART;TZID=Europe/Berlin:20250825T200000
DTEND;TZID=Europe/Berlin:20250825T220000
DTSTAMP:20260422T162423
CREATED:20250811T182356Z
LAST-MODIFIED:20250823T195435Z
UID:2113-1756152000-1756159200@kit-cafe.com
SUMMARY:ORCHESTRE JIGEEN Ñi
DESCRIPTION:Rhein featuresNordatlantik \nKIT Water Music presents: \n\n\n\nL’Orchestre Jigeen Ñi – Die Stimme der Frauen in der senegalesischen Musikszene\nEin einzigartiges Orchester aus Dakar\, das talentierte Musikerinnen vereint\, um die Musiklandschaft Senegals und der Welt zu prägen.\nL’Orchestre Jigeen Ñi ist ein herausragendes Musikensemble aus Dakar\, das ausschließlich aus talentierten Musikerinnen und Sängerinnen besteht. In einer von Männern dominierten Musikszene setzt das Orchester ein kraftvolles Zeichen für weibliche Präsenz und Exzellenz. Mit einer beeindruckenden musikalischen Bandbreite\, die Afro\, Blues\, Reggae\, Hip-Hop\, Jazz\, Mbalax\, Salsa und Zouk umfasst\, vereinen die Künstlerinnen traditionelle afrikanische Klänge mit modernen Einflüssen. Sie treten nicht nur als eigenständiges Orchester auf\, sondern begleiten auch Solokünstler:innen als professioneller Backing-Band. \nIhr Engagement geht über die Musik hinaus: L’Orchestre Jigeen Ñi nutzt seine Kunst als Instrument für soziale Sensibilisierung und positiven Wandel. Durch ihre Musik tragen sie zur Stärkung der Rolle der Frau in der senegalesischen und afrikanischen Musikindustrie bei und setzen sich für eine bewusstere und gerechtere Gesellschaft ein.\nMit Leidenschaft\, Talent und einer klaren Vision erobert L’Orchestre Jigeen Ñi die Bühnen Senegals und der Welt – ein Meilenstein für Frauen in der Musik! \nEintritt: Indoor 10\,- € \n\n\n \n\n 
URL:https://kit-cafe.com/event/orchestre-jigeen-ni/
CATEGORIES:Konzerte,Veranstaltungen
ATTACH;FMTTYPE=image/jpeg:https://kit-cafe.com/wp-content/uploads/2025/08/JIGEEN-NI.jpg
END:VEVENT
BEGIN:VEVENT
DTSTART;TZID=Europe/Berlin:20250827T203000
DTEND;TZID=Europe/Berlin:20250827T220000
DTSTAMP:20260422T162423
CREATED:20250515T201338Z
LAST-MODIFIED:20250515T201356Z
UID:2082-1756326600-1756332000@kit-cafe.com
SUMMARY:Kind
DESCRIPTION:KIND\nShannon Barnett – trb\nEmily Wittbrodt – cello\nShabnam Parvaresh – cl\nDavid Helm – bs\nBruna Cabral – perc\nJan Klare – sax/ fg\n \nKIND will spielen.\nKIND ist prätentiös und performt komplexe Kompositionen von Jan Klare mit einem spezifischen Ansatz im musikalischen Umfeld des „Third Stream Jazz“ und der Neuen Musik
URL:https://kit-cafe.com/event/kind/
LOCATION:KIT Cafe\, Mannesmannufer 1b\, Düsseldorf
CATEGORIES:Konzerte,Veranstaltungen
ATTACH;FMTTYPE=image/jpeg:https://kit-cafe.com/wp-content/uploads/2025/05/MOERS_KIND_4244_bg.jpeg
END:VEVENT
END:VCALENDAR