BEGIN:VCALENDAR
VERSION:2.0
PRODID:-//KIT Cafe &amp; Bar - ECPv6.2.0.1//NONSGML v1.0//EN
CALSCALE:GREGORIAN
METHOD:PUBLISH
X-ORIGINAL-URL:https://kit-cafe.com
X-WR-CALDESC:Veranstaltungen für KIT Cafe &amp; Bar
REFRESH-INTERVAL;VALUE=DURATION:PT1H
X-Robots-Tag:noindex
X-PUBLISHED-TTL:PT1H
BEGIN:VTIMEZONE
TZID:Europe/Berlin
BEGIN:DAYLIGHT
TZOFFSETFROM:+0100
TZOFFSETTO:+0200
TZNAME:CEST
DTSTART:20250330T010000
END:DAYLIGHT
BEGIN:STANDARD
TZOFFSETFROM:+0200
TZOFFSETTO:+0100
TZNAME:CET
DTSTART:20251026T010000
END:STANDARD
END:VTIMEZONE
BEGIN:VEVENT
DTSTART;TZID=Europe/Berlin:20250711T203000
DTEND;TZID=Europe/Berlin:20250711T220000
DTSTAMP:20260422T143334
CREATED:20250515T194816Z
LAST-MODIFIED:20250626T131229Z
UID:2079-1752265800-1752271200@kit-cafe.com
SUMMARY:Soul Survivors // Rhein features Amstel
DESCRIPTION:KIT Water Music präsentiert \nSoul Survivors is a new young band from Amsterdam with a free spirit and a wild heart. The group has immersed themselves in soul\, rhythm & blues by mastering all the old soul songs they love. With a setlist full of soul gems\, they quickly built up a reputation in the Dutch live circuit. Now they have just started to use this musical suitcase to write and record powerful songs of their own. These compositions are rooted in the classic soul of the 60s and 70s from Motown and Stax\, but also have the modern neo soul vibe. The first two tracks are out now on 7” 45rpm vinyl. On side A the track ‘Our Thing’\, featuring singer Remko Spaaij with his warm and rich voice on the neo-soul song he wrote. The band’s anthem ‘I’m a Soul Survivor’ on side B shows what the band stands for: set the audience on fire by making real music. The songs together with soon a third track ‘Tonight‘ are available on all streaming services and form the prelude to a full album next year. The band has the Rock Supplies in Amsterdam West as its headquarters. This is where guitarist Max de Kok and bassist Dimitri Gelens have a studio where the songs were recorded. It is a breeding ground where more top bands reside\, such as funk band The Jig. The Soul Survivors horn section consists of the young trumpet player Dylan Morais and old hand Jeroen van Genuchten on tenor sax. Drummer Steve Cuiper and keyboard player Branco Spadon are talents who are ready for the big job. Soul Survivors gonna take you higher\, higher\, higher! \nVocal: Remko Spaaij \nGuitar: Max de Kok \nKeys – Branco Spadon \nBass: Dimitri Gelens \nSaxophone: Jeroen van Genuchten \nTrumpet: Abriel Ferreira \nDrums: Steve Cuiper
URL:https://kit-cafe.com/event/soul-survivor-rhein-features-amstel/
CATEGORIES:Konzerte,Veranstaltungen
ATTACH;FMTTYPE=image/jpeg:https://kit-cafe.com/wp-content/uploads/2023/12/Soul-Survivors-Band-Photo-Color-Medium-Q-1.jpg
END:VEVENT
END:VCALENDAR