BEGIN:VCALENDAR
VERSION:2.0
PRODID:-//KIT Cafe &amp; Bar - ECPv6.2.0.1//NONSGML v1.0//EN
CALSCALE:GREGORIAN
METHOD:PUBLISH
X-ORIGINAL-URL:https://kit-cafe.com
X-WR-CALDESC:Veranstaltungen für KIT Cafe &amp; Bar
REFRESH-INTERVAL;VALUE=DURATION:PT1H
X-Robots-Tag:noindex
X-PUBLISHED-TTL:PT1H
BEGIN:VTIMEZONE
TZID:Europe/Berlin
BEGIN:DAYLIGHT
TZOFFSETFROM:+0100
TZOFFSETTO:+0200
TZNAME:CEST
DTSTART:20250330T010000
END:DAYLIGHT
BEGIN:STANDARD
TZOFFSETFROM:+0200
TZOFFSETTO:+0100
TZNAME:CET
DTSTART:20251026T010000
END:STANDARD
END:VTIMEZONE
BEGIN:VEVENT
DTSTART;TZID=Europe/Berlin:20251103T080000
DTEND;TZID=Europe/Berlin:20251109T230000
DTSTAMP:20260422T155454
CREATED:20240504T111753Z
LAST-MODIFIED:20251023T082126Z
UID:1822-1762156800-1762729200@kit-cafe.com
SUMMARY:2025  DOWNSTAIRS
DESCRIPTION:KIT Water Music & KIT Café präsentieren das Projekt DOWNSTAIRS ab dem 03.11.25 im Ausstellungsraum KIT Kunst im Tunnel. DOWNSTAIRS nimmt die architektonische Situation im Gebäude Kunst im Tunnel wörtlich: es geht die Treppe runter; und als weitere Assoziation  spielt das diesmal jazzlastige Programm der einwöchigen Konzertreihe auf das ‚Downtown‘ an\, einen ehemaligen Jazzclub in der Düsseldorfer Altstadt. \nDas Programm startet mit Huun Huur Tu (siehe / höre unten)\, den Obertongranden aus Tuva\, es folgt am 04.11. das Duo Flux; wir erwarten Almost Twins aus Leipzig\, erhalten Besuch aus Köln in Gestalt von Schmidt’s Huhn\,  sind gespannt auf die Bluescats feat. Greg Copeland; beobachten die lokalen Spacejazzexperten von Big Bonsai\, und kooperieren mit der New.Heimat.Sounds Clubtour beim Abschlußabend mit Jule Blumt und Büsra Ayhan\, zwei jungen Bandprojekten aus Düsseldorf. \nDie Ticketlinks stehen auf den einzelnen Veranstaltungsseiten und hier: https://u821.loomticket.com/ \n \n  \n  \n  \n  \n  \n 
URL:https://kit-cafe.com/event/2024-geplant-vorschau/
LOCATION:KIT Kunst im Tunnel
CATEGORIES:Konzerte,Reihen,Veranstaltungen
ATTACH;FMTTYPE=image/jpeg:https://kit-cafe.com/wp-content/uploads/2024/05/downstairs.jpg
END:VEVENT
BEGIN:VEVENT
DTSTART;TZID=Europe/Berlin:20251105T200000
DTEND;TZID=Europe/Berlin:20251105T220000
DTSTAMP:20260422T155454
CREATED:20250923T210235Z
LAST-MODIFIED:20251008T111123Z
UID:2142-1762372800-1762380000@kit-cafe.com
SUMMARY:Almost Twins
DESCRIPTION:KIT Water Music präsentiert Almost Twins @ Downstairs \nSehen & Hören: https://youtu.be/GSu2UfBkNE0 \nVVK 10\,- plus Gebühr / AK 15\,- € \nhttps://u821.loomticket.com/de/event/almost-twins \nVom Geheimtipp der Leipziger Indie-Szene hat sich Almost Twins mit dem Release ihres Debütalbums Hands / Trees im Mai 2024 zu einem der spannendsten Acts im deutschen Indie entwickelt. Gestützt von zwei Deutschland-Tourneen\, Auftritten auf diversen Festivals und als Support Act für Dekker auf 16 Terminen\, haben die fünf Indie-Folker 2024 zu ihrem Jahr gemacht. 2025 soll es ähnlich weitergehen\, denn bereits im Frühjahr gehen Almost Twins auf ihre nächste Tour durch 10 deutsche Städte – präsentiert von Handshake Booking\, Wagram Stories Berlin\, RAUSGEGANGEN\, MusikBlog\, detektor.fm\, untoldency\, Frontstage Magazine und Einen hab ich noch. Neue Musik kündigt die Band um Sänger und Songwriter Max Grüner ebenfalls an: Die erste Single ihres zweiten Albums wird passend zur Tour im Frühling 2025 erwartet. Tickets sind ab sofort erhältlich. \nMit ihren handgemachten Songs zwischen subtiler Komplexität und charmanter Schlichtheit schaffen die fünf Musiker eine unbändige Live-Energie. Auf der Bühne lässt sich das fast zwillingshafte Verständnis von Max Grüner (Gesang\, Gitarre)\, Laurenz Welten (Saxofon\, Klarinette)\, Valentin Mühlberger (Wurlitzer\, Synth)\, Arne Imig (Bass) und Raphael Schuster (Schlagzeug) deutlich spüren. Von den leisesten Akustikgitarrenmomenten bis zu jazzinspirierten\, expressiven Höhepunkten schöpfen Almost Twins die Dynamik ihrer Songs voll aus. Warme Synth-Teppiche\, kreisende Wurlitzer-Patterns\, verträumte Saxophon- und Klarinettenlinien und mehrstimmiger Gesang vereinen sich zu einem Sound\, der sich leicht anfühlt\, ohne an Tiefgang zu verlieren\, Ruhe ausstrahlt und es sich doch erlaubt aus dieser auszubrechen. Ein perfekter Singer-Songwriter-Traum\, der an Erlend Øye (Kings Of Convenience)\, José Gonzáles oder This Is The Kit erinnert. \ngefördert durch das
URL:https://kit-cafe.com/event/almost-twins/
CATEGORIES:Konzerte,Reihen,Veranstaltungen
ATTACH;FMTTYPE=image/jpeg:https://kit-cafe.com/wp-content/uploads/2025/09/almost_twins.jpeg
END:VEVENT
END:VCALENDAR