BEGIN:VCALENDAR
VERSION:2.0
PRODID:-//KIT Cafe &amp; Bar - ECPv6.2.0.1//NONSGML v1.0//EN
CALSCALE:GREGORIAN
METHOD:PUBLISH
X-WR-CALNAME:KIT Cafe &amp; Bar
X-ORIGINAL-URL:https://kit-cafe.com
X-WR-CALDESC:Veranstaltungen für KIT Cafe &amp; Bar
REFRESH-INTERVAL;VALUE=DURATION:PT1H
X-Robots-Tag:noindex
X-PUBLISHED-TTL:PT1H
BEGIN:VTIMEZONE
TZID:Europe/Berlin
BEGIN:DAYLIGHT
TZOFFSETFROM:+0100
TZOFFSETTO:+0200
TZNAME:CEST
DTSTART:20250330T010000
END:DAYLIGHT
BEGIN:STANDARD
TZOFFSETFROM:+0200
TZOFFSETTO:+0100
TZNAME:CET
DTSTART:20251026T010000
END:STANDARD
END:VTIMEZONE
BEGIN:VEVENT
DTSTART;TZID=Europe/Berlin:20250827T203000
DTEND;TZID=Europe/Berlin:20250827T220000
DTSTAMP:20260422T181313
CREATED:20250515T201338Z
LAST-MODIFIED:20250515T201356Z
UID:2082-1756326600-1756332000@kit-cafe.com
SUMMARY:Kind
DESCRIPTION:KIND\nShannon Barnett – trb\nEmily Wittbrodt – cello\nShabnam Parvaresh – cl\nDavid Helm – bs\nBruna Cabral – perc\nJan Klare – sax/ fg\n \nKIND will spielen.\nKIND ist prätentiös und performt komplexe Kompositionen von Jan Klare mit einem spezifischen Ansatz im musikalischen Umfeld des „Third Stream Jazz“ und der Neuen Musik
URL:https://kit-cafe.com/event/kind/
LOCATION:KIT Cafe\, Mannesmannufer 1b\, Düsseldorf
CATEGORIES:Konzerte,Veranstaltungen
ATTACH;FMTTYPE=image/jpeg:https://kit-cafe.com/wp-content/uploads/2025/05/MOERS_KIND_4244_bg.jpeg
END:VEVENT
END:VCALENDAR